BEGIN:VCALENDAR
VERSION:2.0
PRODID:-//Morrisville Business Association - ECPv6.15.20//NONSGML v1.0//EN
CALSCALE:GREGORIAN
METHOD:PUBLISH
X-WR-CALNAME:Morrisville Business Association
X-ORIGINAL-URL:https://mbamorrisville.org
X-WR-CALDESC:Events for Morrisville Business Association
REFRESH-INTERVAL;VALUE=DURATION:PT1H
X-Robots-Tag:noindex
X-PUBLISHED-TTL:PT1H
BEGIN:VTIMEZONE
TZID:UTC
BEGIN:STANDARD
TZOFFSETFROM:+0000
TZOFFSETTO:+0000
TZNAME:UTC
DTSTART:20220101T000000
END:STANDARD
END:VTIMEZONE
BEGIN:VEVENT
DTSTART;TZID=UTC:20231204T180000
DTEND;TZID=UTC:20231204T210000
DTSTAMP:20260421T195606
CREATED:20231023T124446Z
LAST-MODIFIED:20231023T124538Z
UID:1374-1701712800-1701723600@mbamorrisville.org
SUMMARY:MBA Annual Members Meeting  -  and Holiday Mixer
DESCRIPTION:Open to all\, free to attend \nWhen: 6:30PM – 9PM\nWhere: Ashlynn Distillery \n\n\nAnnual MBA Members-Only Meeting 6:00PM – 6:30PM \n\nJoin us for the MBA Holiday Mixer\, a fun and informal event to connect with local business owners\, entrepreneurs\, and professionals.\n\n\nCash bar \nLight refreshments provided \n\nWhether you’re new to the area or a seasoned pro\, the Fall Mixer is a great opportunity to expand your network\, forge new partnerships\, and learn more about the wealth of talent and services in our community.\nEnjoy light refreshments\, cash bar\, door prizes\, and good company. All are welcome\, so bring your business cards and join us for an unforgettable evening of networking and community building!\nWe look forward to seeing you there
URL:https://mbamorrisville.org/event/mba-annual-members-meeting-and-holiday-mixer/
LOCATION:Ashlynn Distillery\, 32 W Bridge St\, Morrisville\, PA\, 19067\, United States
CATEGORIES:Networking
ATTACH;FMTTYPE=image/png:https://mbamorrisville.org/wp-content/uploads/2023/10/MBA-Winter-Mixer-Flyer-1920-x-1080-px.png
END:VEVENT
END:VCALENDAR