BEGIN:VCALENDAR
VERSION:2.0
PRODID:-//Morrisville Business Association - ECPv6.15.20//NONSGML v1.0//EN
CALSCALE:GREGORIAN
METHOD:PUBLISH
X-WR-CALNAME:Morrisville Business Association
X-ORIGINAL-URL:https://mbamorrisville.org
X-WR-CALDESC:Events for Morrisville Business Association
REFRESH-INTERVAL;VALUE=DURATION:PT1H
X-Robots-Tag:noindex
X-PUBLISHED-TTL:PT1H
BEGIN:VTIMEZONE
TZID:UTC
BEGIN:STANDARD
TZOFFSETFROM:+0000
TZOFFSETTO:+0000
TZNAME:UTC
DTSTART:20220101T000000
END:STANDARD
END:VTIMEZONE
BEGIN:VEVENT
DTSTART;TZID=UTC:20230527T080000
DTEND;TZID=UTC:20230527T170000
DTSTAMP:20260420T100507
CREATED:20230705T190915Z
LAST-MODIFIED:20230705T200900Z
UID:1223-1685174400-1685206800@mbamorrisville.org
SUMMARY:2nd Annual MBA Bridge Street Car Show!
DESCRIPTION:2nd Annual MBA Bridge Street Car Show! \nhttps://mbamorrisville.org/wp-content/uploads/2023/07/mba-car-show-vid-hd_sFdWq2MZ.mp4\n  \nThe Morrisville Business Association and British Cars of Bucks County are closing Bridge Street for an old-fashioned car show! Come wander the street\, sample and enjoy our local merchants offerings\, and look at an awesome collection of classic American and Imported cars – jeeps – trucks!\n \nShow hours 0830-1:30pm\, awards ceremony 1pm \nWe’ve got 22 trophies and $ 500+ gift certificates for American-Imported-Jeeps/Trucks in the following classes: \n*Prior to 1949                                                                                         *1950-59                                                                                                *1960-69                                                                                                  *1970-79                                                                                               *1980-89                                                                                               *1990- present \nClubs are very welcome! \nPreregistration: $15 www.morrisvillebusinessassociation.org or $20 day-of-show \nRegistration opens 0800; enter Bridge Street from either S. Pennsylvania Ave or Delmorr Ave. \nRain Date: May 27 \nQuestions? Andrew Lubin @ alubinmb@outlook.com\, or 215 584 2595
URL:https://mbamorrisville.org/event/2nd-annual-mba-bridge-street-car-show/
LOCATION:Bridge Street
CATEGORIES:Community,Social
ATTACH;FMTTYPE=image/webp:https://mbamorrisville.org/wp-content/uploads/2023/07/bcbc-logo___18140539105.webp
END:VEVENT
END:VCALENDAR