BEGIN:VCALENDAR
VERSION:2.0
PRODID:-//Morrisville Business Association - ECPv6.15.20//NONSGML v1.0//EN
CALSCALE:GREGORIAN
METHOD:PUBLISH
X-WR-CALNAME:Morrisville Business Association
X-ORIGINAL-URL:https://mbamorrisville.org
X-WR-CALDESC:Events for Morrisville Business Association
REFRESH-INTERVAL;VALUE=DURATION:PT1H
X-Robots-Tag:noindex
X-PUBLISHED-TTL:PT1H
BEGIN:VTIMEZONE
TZID:UTC
BEGIN:STANDARD
TZOFFSETFROM:+0000
TZOFFSETTO:+0000
TZNAME:UTC
DTSTART:20230101T000000
END:STANDARD
END:VTIMEZONE
BEGIN:VEVENT
DTSTART;TZID=UTC:20240305T120000
DTEND;TZID=UTC:20240305T133000
DTSTAMP:20260419T210106
CREATED:20240214T222404Z
LAST-MODIFIED:20240214T222404Z
UID:1434-1709640000-1709645400@mbamorrisville.org
SUMMARY:Eat and Engage Networking Lunch - March 5 2024
DESCRIPTION:Double down on your connections and enjoy a delicious lunch at the Morrisville Business Association “Eat and Engage” Networking Lunch!\nJoin us at RJs Birds Nest for a relaxed and informal networking event where you can: \n\n•Connect with fellow business owners\, professionals\, and entrepreneurs\n•Build relationships and explore collaboration opportunities\n•Share insights and learn from each other’s experiences\n•Enjoy a delicious lunch from RJs Birds Nest’s menu\n•No upfront fees\, just pay your own way off the menu!\n•Stay as long as you like and participate as much or as little as you’d like. We’ll have a dedicated time for introductions\, but there’s no pressure to speak if you’re not comfortable.\n\nThis event is open to all MBA members and one guest per member. Guests may attend one (1) meeting for free. A guest fee will be assessed for each event attended thereafter.\nDon’t miss this chance to connect with your fellow Morrisville business community!\n\nWe look forward to seeing you at the “Eat and Engage” Networking Lunch!
URL:https://mbamorrisville.org/event/eat-and-engage-networking-lunch-march-5-2024/
LOCATION:RJs Birds Nest\, 1 E Philadelphia Ave\, Morrisville\, PA\, 19054\, United States
CATEGORIES:Networking,Social
ATTACH;FMTTYPE=image/jpeg:https://mbamorrisville.org/wp-content/uploads/2024/02/425818726_122145821936075796_1387228258645270266_n-2.jpg
END:VEVENT
END:VCALENDAR