BEGIN:VCALENDAR
VERSION:2.0
PRODID:-//Morrisville Business Association - ECPv6.15.20//NONSGML v1.0//EN
CALSCALE:GREGORIAN
METHOD:PUBLISH
X-WR-CALNAME:Morrisville Business Association
X-ORIGINAL-URL:https://mbamorrisville.org
X-WR-CALDESC:Events for Morrisville Business Association
REFRESH-INTERVAL;VALUE=DURATION:PT1H
X-Robots-Tag:noindex
X-PUBLISHED-TTL:PT1H
BEGIN:VTIMEZONE
TZID:UTC
BEGIN:STANDARD
TZOFFSETFROM:+0000
TZOFFSETTO:+0000
TZNAME:UTC
DTSTART:20230101T000000
END:STANDARD
END:VTIMEZONE
BEGIN:VEVENT
DTSTART;TZID=UTC:20240511T163000
DTEND;TZID=UTC:20240511T200000
DTSTAMP:20260419T175311
CREATED:20240214T220354Z
LAST-MODIFIED:20240520T123056Z
UID:1432-1715445000-1715457600@mbamorrisville.org
SUMMARY:MBA Bridge Street Car Show 2024: Register Here!!
DESCRIPTION:3rd Annual MBA Bridge Street Car Show! register here!!!!  \n\n\n\nThe Morrisville Business Association and British Cars of Bucks County are closing Bridge Street for an old-fashioned car show! Come wander the street\, sample and enjoy our local merchants offerings\, and look at an awesome collection of classic American and Imported cars – jeeps – trucks!   \n\n\n\nShow hours 4:30-8pm \n\n\n\nAwards ceremony 7:15pm \n\n\n\nWe’ve got trophies and gift certificates for American-Imported in the following classes: \n\n\n\nBest-In-Show: Overall \n\n\n\nFlager & Associates \n\n\n\nDan McMillan \n\n\n\n1957 Ford Thunderbird  \n\n\n\n\n\nBest-in-Show: Veteran \n\n\n\n Yardley VFW Post 6393 \n\n\n\nPall Witcherman \n\n\n\n1960 Lork Studebaker  \n\n\n\n\n\nBest-in-Show: American \n\n\n\nSiana Law \n\n\n\nDave Marconi  \n\n\n\n1962 Buick GS \n\n\n\n\n\nBest-in-Show: Imported \n\n\n\nPiller-to-Post Inspections \n\n\n\nTed Henke \n\n\n\n1951 MG TD \n\n\n\n\n\n\n\n\n\n Honorable Mention  \n\n\n\n\n\nSarah Elizabeth Hair and Color Bar \n\n\n\n\n\nAutoZone \n\n\n\n\n\nNAPA \n\n\n\n\n\n\n\n\n\n\n\nDecade \n\n\n\nPrior to 1949: \n\n\n\n \n\n\n\n \n\n\n\n1950 –  59: \n\n\n\n \n\n\n\n \n\n\n\n1960 – 69: \n\n\n\n \n\n\n\n \n\n\n\n1970 – 79: \n\n\n\n \n\n\n\n \n\n\n\n1980 – 89: \n\n\n\n \n\n\n\n \n\n\n\n1990 – present: \n\n\n\n \n\n\n\n \n\n\n\nExotics: \n\n\n\n\n\nAmerican \n\n\n\nYardley Carpets   \n\n\n\nTom Tinsman \n\n\n\n 1929 Ford A-Cope \n\n\n\nMorrisville Municipal Authority \n\n\n\nRichard Decker \n\n\n\n1956 Ford Truck  \n\n\n\nAshlynn Distillery \n\n\n\nBob Ziff \n\n\n\n1964 Studebaker Avanti \n\n\n\nFame-Good Eats \n\n\n\nNikke Thompson  \n\n\n\n1973 Cadillac Hearse \n\n\n\nShopRite of Yardley \n\n\n\nBill Green  \n\n\n\n1986 Chevy S-10 \n\n\n\nPenn Community Bank \n\n\n\nSue Lubanski \n\n\n\n2000 Pontiac TransAm \n\n\n\nConversion Chemistry \n\n\n\nRob Dollinger \n\n\n\n1967 AC Cobra  \n\n\n\n\n\nImported \n\n\n\nBritish Cars of Bucks County \n\n\n\n No   \n\n\n\nEntry \n\n\n\nOnyx Realestate Enterprises \n\n\n\nGreg DuPey \n\n\n\n1958 TR-3  \n\n\n\nSmith And Porter\, PC \n\n\n\nRoger Sternfeld  \n\n\n\n1966 Sunbeam Tiger   \n\n\n\nErickson Properties \n\n\n\nJustin Rylak  \n\n\n\n1970 Mini Couper  \n\n\n\nTen Crucial Days \n\n\n\nDenise Prusian  \n\n\n\n1980 MGB Roadster \n\n\n\nGlenwood Foreign Car \n\n\n\nSal Monopoli \n\n\n\n1991 Nissan Figaro  \n\n\n\n\nT-Bone Solutions \n\n\n\n\n Joe Schaible  \n\n\n\n1998 Lotus Esprit
URL:https://mbamorrisville.org/event/mcbc-mba-bridge-street-car-show-2024/
LOCATION:Bridge Street
CATEGORIES:Community,Social
ATTACH;FMTTYPE=image/webp:https://mbamorrisville.org/wp-content/uploads/2023/07/bcbc-logo___18140539105.webp
END:VEVENT
END:VCALENDAR