BEGIN:VCALENDAR
VERSION:2.0
PRODID:-//Morrisville Business Association - ECPv6.15.20//NONSGML v1.0//EN
CALSCALE:GREGORIAN
METHOD:PUBLISH
X-WR-CALNAME:Morrisville Business Association
X-ORIGINAL-URL:https://mbamorrisville.org
X-WR-CALDESC:Events for Morrisville Business Association
REFRESH-INTERVAL;VALUE=DURATION:PT1H
X-Robots-Tag:noindex
X-PUBLISHED-TTL:PT1H
BEGIN:VTIMEZONE
TZID:UTC
BEGIN:STANDARD
TZOFFSETFROM:+0000
TZOFFSETTO:+0000
TZNAME:UTC
DTSTART:20220101T000000
END:STANDARD
END:VTIMEZONE
BEGIN:VEVENT
DTSTART;TZID=UTC:20250510T170000
DTEND;TZID=UTC:20250510T200000
DTSTAMP:20260425T134645
CREATED:20250323T182634Z
LAST-MODIFIED:20250323T190344Z
UID:1646-1746896400-1746907200@mbamorrisville.org
SUMMARY:Bridge Street Car Show
DESCRIPTION:Vintage American & Imported Car Show   \n\n\n\n\n\nRegister here \n\n\n\nPay Here
URL:https://mbamorrisville.org/event/bridge-street-car-show/
END:VEVENT
BEGIN:VEVENT
DTSTART;TZID=UTC:20250129T180000
DTEND;TZID=UTC:20250129T210000
DTSTAMP:20260425T134645
CREATED:20250119T221731Z
LAST-MODIFIED:20250119T222839Z
UID:1637-1738173600-1738184400@mbamorrisville.org
SUMMARY:Celebrate Lunar Year’s Year of the Snake with Concerto Fusion Cuisine!
DESCRIPTION:
URL:https://mbamorrisville.org/event/1637/
END:VEVENT
BEGIN:VEVENT
DTSTART;TZID=UTC:20240511T163000
DTEND;TZID=UTC:20240511T200000
DTSTAMP:20260425T134645
CREATED:20240214T220354Z
LAST-MODIFIED:20240520T123056Z
UID:1432-1715445000-1715457600@mbamorrisville.org
SUMMARY:MBA Bridge Street Car Show 2024: Register Here!!
DESCRIPTION:3rd Annual MBA Bridge Street Car Show! register here!!!!  \n\n\n\nThe Morrisville Business Association and British Cars of Bucks County are closing Bridge Street for an old-fashioned car show! Come wander the street\, sample and enjoy our local merchants offerings\, and look at an awesome collection of classic American and Imported cars – jeeps – trucks!   \n\n\n\nShow hours 4:30-8pm \n\n\n\nAwards ceremony 7:15pm \n\n\n\nWe’ve got trophies and gift certificates for American-Imported in the following classes: \n\n\n\nBest-In-Show: Overall \n\n\n\nFlager & Associates \n\n\n\nDan McMillan \n\n\n\n1957 Ford Thunderbird  \n\n\n\n\n\nBest-in-Show: Veteran \n\n\n\n Yardley VFW Post 6393 \n\n\n\nPall Witcherman \n\n\n\n1960 Lork Studebaker  \n\n\n\n\n\nBest-in-Show: American \n\n\n\nSiana Law \n\n\n\nDave Marconi  \n\n\n\n1962 Buick GS \n\n\n\n\n\nBest-in-Show: Imported \n\n\n\nPiller-to-Post Inspections \n\n\n\nTed Henke \n\n\n\n1951 MG TD \n\n\n\n\n\n\n\n\n\n Honorable Mention  \n\n\n\n\n\nSarah Elizabeth Hair and Color Bar \n\n\n\n\n\nAutoZone \n\n\n\n\n\nNAPA \n\n\n\n\n\n\n\n\n\n\n\nDecade \n\n\n\nPrior to 1949: \n\n\n\n \n\n\n\n \n\n\n\n1950 –  59: \n\n\n\n \n\n\n\n \n\n\n\n1960 – 69: \n\n\n\n \n\n\n\n \n\n\n\n1970 – 79: \n\n\n\n \n\n\n\n \n\n\n\n1980 – 89: \n\n\n\n \n\n\n\n \n\n\n\n1990 – present: \n\n\n\n \n\n\n\n \n\n\n\nExotics: \n\n\n\n\n\nAmerican \n\n\n\nYardley Carpets   \n\n\n\nTom Tinsman \n\n\n\n 1929 Ford A-Cope \n\n\n\nMorrisville Municipal Authority \n\n\n\nRichard Decker \n\n\n\n1956 Ford Truck  \n\n\n\nAshlynn Distillery \n\n\n\nBob Ziff \n\n\n\n1964 Studebaker Avanti \n\n\n\nFame-Good Eats \n\n\n\nNikke Thompson  \n\n\n\n1973 Cadillac Hearse \n\n\n\nShopRite of Yardley \n\n\n\nBill Green  \n\n\n\n1986 Chevy S-10 \n\n\n\nPenn Community Bank \n\n\n\nSue Lubanski \n\n\n\n2000 Pontiac TransAm \n\n\n\nConversion Chemistry \n\n\n\nRob Dollinger \n\n\n\n1967 AC Cobra  \n\n\n\n\n\nImported \n\n\n\nBritish Cars of Bucks County \n\n\n\n No   \n\n\n\nEntry \n\n\n\nOnyx Realestate Enterprises \n\n\n\nGreg DuPey \n\n\n\n1958 TR-3  \n\n\n\nSmith And Porter\, PC \n\n\n\nRoger Sternfeld  \n\n\n\n1966 Sunbeam Tiger   \n\n\n\nErickson Properties \n\n\n\nJustin Rylak  \n\n\n\n1970 Mini Couper  \n\n\n\nTen Crucial Days \n\n\n\nDenise Prusian  \n\n\n\n1980 MGB Roadster \n\n\n\nGlenwood Foreign Car \n\n\n\nSal Monopoli \n\n\n\n1991 Nissan Figaro  \n\n\n\n\nT-Bone Solutions \n\n\n\n\n Joe Schaible  \n\n\n\n1998 Lotus Esprit
URL:https://mbamorrisville.org/event/mcbc-mba-bridge-street-car-show-2024/
LOCATION:Bridge Street
CATEGORIES:Community,Social
ATTACH;FMTTYPE=image/webp:https://mbamorrisville.org/wp-content/uploads/2023/07/bcbc-logo___18140539105.webp
END:VEVENT
BEGIN:VEVENT
DTSTART;TZID=UTC:20240318T180000
DTEND;TZID=UTC:20240318T200000
DTSTAMP:20260425T134645
CREATED:20240220T000521Z
LAST-MODIFIED:20240220T003904Z
UID:1448-1710784800-1710792000@mbamorrisville.org
SUMMARY:Complimentary "Brain Hack Cafe" Workshop!
DESCRIPTION:Join the Morrisville Business Association and Brain Hack Cafe for a FREE workshop!\n\nFeeling stressed\, anxious\, or stuck in unhelpful patterns? This workshop offers empowering tools based on neuroscience and mindfulness to calm your mind and body. Learn practical techniques to:\nRewire unwanted fight-or-flight responses: Discover brain hacks to manage stress and improve emotional regulation.\nFeel better\, faster: Implement evidence-based interventions you can use at home.\nAchieve lasting calm and confidence: Explore a fun\, safe approach that combines Brainspotting\, CBT\, Attachment Theory\, and Vergence Therapy.\nOpen to adults and children of all abilities.\nHosted by:\nms MISSY ms\nLicensed Professional Counselor\, Mind-Body Psychotherapist& ms LINDSAY rg\nThe Reiki Goddess \n  \n\nProud members of the trauma-informed movement!\nWe welcome you to our Cafe\, House of Neurodi\, and home to All Deer-Me Believers.\nDon’t miss this chance to learn\, connect\, and empower yourself!
URL:https://mbamorrisville.org/event/complimentary-brain-hack-cafe-workshop/
LOCATION:The Brain Hack Cafe\, 25 East Bridge St\,\, Morrisville\, PA\, 19067\, United States
CATEGORIES:Community,Networking,Social
ATTACH;FMTTYPE=image/png:https://mbamorrisville.org/wp-content/uploads/2024/02/MBA-Brain-Hack-Cafe.png
END:VEVENT
BEGIN:VEVENT
DTSTART;TZID=UTC:20240305T120000
DTEND;TZID=UTC:20240305T133000
DTSTAMP:20260425T134645
CREATED:20240214T222404Z
LAST-MODIFIED:20240214T222404Z
UID:1434-1709640000-1709645400@mbamorrisville.org
SUMMARY:Eat and Engage Networking Lunch - March 5 2024
DESCRIPTION:Double down on your connections and enjoy a delicious lunch at the Morrisville Business Association “Eat and Engage” Networking Lunch!\nJoin us at RJs Birds Nest for a relaxed and informal networking event where you can: \n\n•Connect with fellow business owners\, professionals\, and entrepreneurs\n•Build relationships and explore collaboration opportunities\n•Share insights and learn from each other’s experiences\n•Enjoy a delicious lunch from RJs Birds Nest’s menu\n•No upfront fees\, just pay your own way off the menu!\n•Stay as long as you like and participate as much or as little as you’d like. We’ll have a dedicated time for introductions\, but there’s no pressure to speak if you’re not comfortable.\n\nThis event is open to all MBA members and one guest per member. Guests may attend one (1) meeting for free. A guest fee will be assessed for each event attended thereafter.\nDon’t miss this chance to connect with your fellow Morrisville business community!\n\nWe look forward to seeing you at the “Eat and Engage” Networking Lunch!
URL:https://mbamorrisville.org/event/eat-and-engage-networking-lunch-march-5-2024/
LOCATION:RJs Birds Nest\, 1 E Philadelphia Ave\, Morrisville\, PA\, 19054\, United States
CATEGORIES:Networking,Social
ATTACH;FMTTYPE=image/jpeg:https://mbamorrisville.org/wp-content/uploads/2024/02/425818726_122145821936075796_1387228258645270266_n-2.jpg
END:VEVENT
BEGIN:VEVENT
DTSTART;TZID=UTC:20231204T180000
DTEND;TZID=UTC:20231204T210000
DTSTAMP:20260425T134645
CREATED:20231023T124446Z
LAST-MODIFIED:20231023T124538Z
UID:1374-1701712800-1701723600@mbamorrisville.org
SUMMARY:MBA Annual Members Meeting  -  and Holiday Mixer
DESCRIPTION:Open to all\, free to attend \nWhen: 6:30PM – 9PM\nWhere: Ashlynn Distillery \n\n\nAnnual MBA Members-Only Meeting 6:00PM – 6:30PM \n\nJoin us for the MBA Holiday Mixer\, a fun and informal event to connect with local business owners\, entrepreneurs\, and professionals.\n\n\nCash bar \nLight refreshments provided \n\nWhether you’re new to the area or a seasoned pro\, the Fall Mixer is a great opportunity to expand your network\, forge new partnerships\, and learn more about the wealth of talent and services in our community.\nEnjoy light refreshments\, cash bar\, door prizes\, and good company. All are welcome\, so bring your business cards and join us for an unforgettable evening of networking and community building!\nWe look forward to seeing you there
URL:https://mbamorrisville.org/event/mba-annual-members-meeting-and-holiday-mixer/
LOCATION:Ashlynn Distillery\, 32 W Bridge St\, Morrisville\, PA\, 19067\, United States
CATEGORIES:Networking
ATTACH;FMTTYPE=image/png:https://mbamorrisville.org/wp-content/uploads/2023/10/MBA-Winter-Mixer-Flyer-1920-x-1080-px.png
END:VEVENT
BEGIN:VEVENT
DTSTART;TZID=UTC:20231202T100000
DTEND;TZID=UTC:20231202T150000
DTSTAMP:20260425T134645
CREATED:20230630T205159Z
LAST-MODIFIED:20231119T191547Z
UID:1170-1701511200-1701529200@mbamorrisville.org
SUMMARY:USMC Toys for Tots 2023 Christmas Kickoff
DESCRIPTION:📅 Date: December  2\, 2023 📍 Location: Morrisville Shopping Center \nPLEASE NOTE!  Our Toy Drive will Start at the End of the WinterFest Parade! \nThe Morrisville Business Association (MBA) and the Bucks County Business Connection (BCBC) are delighted to announce the USMC Toys for Tots 2023 Christmas Kickoff! 🧸🚂 \nJoin us on December 2nd at the Morrisville Shopping Center (1 E. Trenton Ave.) as we begin the season of giving a little early. Sponsored and organized by the MBA and BCBC\, this event is all about bringing joy and spreading the Christmas spirit to children in our community. \nWe’re partnering with the U.S. Marine Corps’ Toys for Tots\, a program with a noble mission: to bring the joy of Christmas and send a message of hope to America’s less fortunate children through the gift of a new toy. \nWe invite you to be a part of this wonderful cause! Bring a new\, unwrapped toy to donate\, or just come to show your support and join in the festivities. Together\, we can make a difference and ensure every child has a present to open this Christmas. \nMark your calendars and join us in kicking off the season of giving at the USMC Toys for Tots 2023 Christmas Kickoff! 🎅🦌 We look forward to seeing you there!
URL:https://mbamorrisville.org/event/usmc-toys-for-tots-2023-christmas-kickoff/
LOCATION:Morrisville Shopping Center\, Morrisville\, PA\, 19067
CATEGORIES:Charity and Causes,Community
ATTACH;FMTTYPE=image/png:https://mbamorrisville.org/wp-content/uploads/2023/06/toy-drive-featured.png
END:VEVENT
BEGIN:VEVENT
DTSTART;TZID=UTC:20231030T163000
DTEND;TZID=UTC:20231030T210000
DTSTAMP:20260425T134645
CREATED:20231023T115932Z
LAST-MODIFIED:20231023T122022Z
UID:1361-1698683400-1698699600@mbamorrisville.org
SUMMARY:Trunk or Treat and Movie Night
DESCRIPTION:Trunk or Treat and Encanto Movie Night! \nCANDY – FOOD – FACE PAINTING \n\n\nBring your kids for a fun night of Trunk or Treating\, followed by watching Encanto on the Compass Fellowship Church Lawn! \n\n4:30PM to 6:30PM – Trunk or Treat\n6:30PM Encanto Movie Night.
URL:https://mbamorrisville.org/event/trunk-or-treat-and-movie-night/
LOCATION:Compass Fellhowship\, 50 N Pennsylvania Ave\, Morrisville\, PA\, United States
CATEGORIES:Community,Social
ATTACH;FMTTYPE=image/png:https://mbamorrisville.org/wp-content/uploads/2023/10/trunk-or-treat.png
END:VEVENT
BEGIN:VEVENT
DTSTART;TZID=UTC:20230918T180000
DTEND;TZID=UTC:20230918T190000
DTSTAMP:20260425T134645
CREATED:20230630T204729Z
LAST-MODIFIED:20230828T173926Z
UID:1167-1695060000-1695063600@mbamorrisville.org
SUMMARY:Sept Fall Mixer 2023
DESCRIPTION:  \nThe Morrisville Business Association is thrilled to announce our annual Fall Mixer! 🍂🎉 \nAs the leaves start to change and the air turns crisp\, it’s the perfect time to come together and celebrate our vibrant business community. Join us for an evening of networking\, discovery\, and camaraderie as we learn more about the diverse businesses that make our area so unique. \nDon’t forget to bring plenty of business cards to exchange with potential partners\, clients\, and friends! This is a wonderful opportunity to expand your network\, forge new partnerships\, and get to know your local business owners in a relaxed and friendly setting. \nWhether you’re a seasoned entrepreneur or a new business owner in the area\, you’ll find value in making connections\, sharing ideas\, and learning more about the wealth of talent and services in our community. \nLight refreshments will be provided\, and there will be a chance to win door prizes from participating businesses! \nSo\, mark your calendars\, bring your business cards\, and join us for an unforgettable evening of networking and community building at the Morrisville Business Association Fall Mixer. \nWe look forward to meeting you and getting to know your business! \n  \nPlease stay tuned for more details\, including the exact date\, time\, and location of the event. We can’t wait to see you this fall!
URL:https://mbamorrisville.org/event/sept-fall-mixer/
LOCATION:Concerto Fusion Cuisine\, 2 Delmorr Ave\, Morrisville\, PA\, 19067\, United States
CATEGORIES:Networking,Social
ATTACH;FMTTYPE=image/png:https://mbamorrisville.org/wp-content/uploads/2023/06/finalfall-Mixer-2023-portrait-Facebook-Event-Cover.png
END:VEVENT
BEGIN:VEVENT
DTSTART;TZID=UTC:20230725T180000
DTEND;TZID=UTC:20230725T220000
DTSTAMP:20260425T134645
CREATED:20230630T204206Z
LAST-MODIFIED:20230630T204206Z
UID:1163-1690308000-1690322400@mbamorrisville.org
SUMMARY:National Night Out -  Williamson Park
DESCRIPTION:The Morrisville Borough Police Department will be hosting a “National Night Out” event at Williamson Park on July 25th \n\n\nAs part of the event\, members of the Morrisville Borough Police Department and Morrisville Borough Fire Department will be in attendance so they can interact with members of the community on a one-on-one basis. \n\nMBA members invited to participate as you see appropriate in order to promote their business
URL:https://mbamorrisville.org/event/national-night-out-williamson-park/
LOCATION:Williamson Park\, 100 Delmorr Ave\,\, Morrisville\, PA\, 19067
CATEGORIES:Community,Networking
ATTACH;FMTTYPE=image/jpeg:https://mbamorrisville.org/wp-content/uploads/2023/06/download.jpg
END:VEVENT
BEGIN:VEVENT
DTSTART;TZID=UTC:20230527T080000
DTEND;TZID=UTC:20230527T170000
DTSTAMP:20260425T134645
CREATED:20230705T190915Z
LAST-MODIFIED:20230705T200900Z
UID:1223-1685174400-1685206800@mbamorrisville.org
SUMMARY:2nd Annual MBA Bridge Street Car Show!
DESCRIPTION:2nd Annual MBA Bridge Street Car Show! \nhttps://mbamorrisville.org/wp-content/uploads/2023/07/mba-car-show-vid-hd_sFdWq2MZ.mp4 \n  \nThe Morrisville Business Association and British Cars of Bucks County are closing Bridge Street for an old-fashioned car show! Come wander the street\, sample and enjoy our local merchants offerings\, and look at an awesome collection of classic American and Imported cars – jeeps – trucks!\n \nShow hours 0830-1:30pm\, awards ceremony 1pm \nWe’ve got 22 trophies and $ 500+ gift certificates for American-Imported-Jeeps/Trucks in the following classes: \n*Prior to 1949                                                                                         *1950-59                                                                                                *1960-69                                                                                                  *1970-79                                                                                               *1980-89                                                                                               *1990- present \nClubs are very welcome! \nPreregistration: $15 www.morrisvillebusinessassociation.org or $20 day-of-show \nRegistration opens 0800; enter Bridge Street from either S. Pennsylvania Ave or Delmorr Ave. \nRain Date: May 27 \nQuestions? Andrew Lubin @ alubinmb@outlook.com\, or 215 584 2595
URL:https://mbamorrisville.org/event/2nd-annual-mba-bridge-street-car-show/
LOCATION:Bridge Street
CATEGORIES:Community,Social
ATTACH;FMTTYPE=image/webp:https://mbamorrisville.org/wp-content/uploads/2023/07/bcbc-logo___18140539105.webp
END:VEVENT
BEGIN:VEVENT
DTSTART;TZID=UTC:20230410T170000
DTEND;TZID=UTC:20230410T190000
DTSTAMP:20260425T134645
CREATED:20230629T002908Z
LAST-MODIFIED:20230629T002908Z
UID:1146-1681146000-1681153200@mbamorrisville.org
SUMMARY:Spring Mixer 2023
DESCRIPTION:
URL:https://mbamorrisville.org/event/spring-mixer-2023/
LOCATION:Ashlynn Distillery\, 32 W Bridge St\, Morrisville\, PA\, 19067\, United States
CATEGORIES:Networking
ATTACH;FMTTYPE=image/jpeg:https://mbamorrisville.org/wp-content/uploads/2023/06/338145440_168415816086672_1954585056169044495_n.jpg
END:VEVENT
END:VCALENDAR